BEGIN:VCALENDAR
VERSION:2.0
PRODID:-//Will County Health Department - ECPv6.15.20//NONSGML v1.0//EN
CALSCALE:GREGORIAN
METHOD:PUBLISH
X-WR-CALNAME:Will County Health Department
X-ORIGINAL-URL:https://willcountyhealth.org
X-WR-CALDESC:Events for Will County Health Department
REFRESH-INTERVAL;VALUE=DURATION:PT1H
X-Robots-Tag:noindex
X-PUBLISHED-TTL:PT1H
BEGIN:VTIMEZONE
TZID:America/Chicago
BEGIN:DAYLIGHT
TZOFFSETFROM:-0600
TZOFFSETTO:-0500
TZNAME:CDT
DTSTART:20250309T080000
END:DAYLIGHT
BEGIN:STANDARD
TZOFFSETFROM:-0500
TZOFFSETTO:-0600
TZNAME:CST
DTSTART:20251102T070000
END:STANDARD
BEGIN:DAYLIGHT
TZOFFSETFROM:-0600
TZOFFSETTO:-0500
TZNAME:CDT
DTSTART:20260308T080000
END:DAYLIGHT
BEGIN:STANDARD
TZOFFSETFROM:-0500
TZOFFSETTO:-0600
TZNAME:CST
DTSTART:20261101T070000
END:STANDARD
BEGIN:DAYLIGHT
TZOFFSETFROM:-0600
TZOFFSETTO:-0500
TZNAME:CDT
DTSTART:20270314T080000
END:DAYLIGHT
BEGIN:STANDARD
TZOFFSETFROM:-0500
TZOFFSETTO:-0600
TZNAME:CST
DTSTART:20271107T070000
END:STANDARD
END:VTIMEZONE
BEGIN:VEVENT
DTSTART;TZID=America/Chicago:20260421T100000
DTEND;TZID=America/Chicago:20260421T120000
DTSTAMP:20260421T015317
CREATED:20260331T203625Z
LAST-MODIFIED:20260331T203625Z
UID:10001247-1776765600-1776772800@willcountyhealth.org
SUMMARY:Naloxone (Narcan) Rapid Response – April 21
DESCRIPTION:The Naloxone Rapid Response Team will have a pop-up table distributing Naloxone (Narcan)\, a medication to rapidly reverse an opioid overdose. The team will also distribute materials identifying locations for treatment\, peer support and other available resources.
URL:https://willcountyhealth.org/event/naloxone-narcan-rapid-response-april-21/
LOCATION:River Walk Homes Food Pantry\, 350 N. Broadway St.\, Joliet\, Illinois\, 60435
CATEGORIES:Naloxone (Narcan) Rapid Response Event
ATTACH;FMTTYPE=image/png:https://willcountyhealth.org/wp-content/uploads/2025/04/New-Naloxone-event.png
END:VEVENT
BEGIN:VEVENT
DTSTART;TZID=America/Chicago:20260421T100000
DTEND;TZID=America/Chicago:20260421T140000
DTSTAMP:20260421T015317
CREATED:20260331T203742Z
LAST-MODIFIED:20260331T203742Z
UID:10001248-1776765600-1776780000@willcountyhealth.org
SUMMARY:Naloxone (Narcan) Rapid Response – April 21
DESCRIPTION:The Naloxone Rapid Response Team will have a pop-up table distributing Naloxone (Narcan)\, a medication to rapidly reverse an opioid overdose. The team will also distribute materials identifying locations for treatment\, peer support and other available resources.
URL:https://willcountyhealth.org/event/naloxone-narcan-rapid-response-april-21-2/
LOCATION:Warren Sharpe Community Center (Food Pantry)\, 454 S. Joliet St.\, Joliet\, Illinois\, 60436
CATEGORIES:Naloxone (Narcan) Rapid Response Event
ATTACH;FMTTYPE=image/png:https://willcountyhealth.org/wp-content/uploads/2025/04/New-Naloxone-event.png
END:VEVENT
BEGIN:VEVENT
DTSTART;TZID=America/Chicago:20260421T103000
DTEND;TZID=America/Chicago:20260421T113000
DTSTAMP:20260421T015317
CREATED:20251031T221856Z
LAST-MODIFIED:20251031T221856Z
UID:10001075-1776767400-1776771000@willcountyhealth.org
SUMMARY:Milk Circle Breastfeeding Support Group - April 21
DESCRIPTION:Join the Milk Circle\, the Will County Health Department’s Breastfeeding Support Group on the first and third Tuesday of every month from 10:30-11:30 am in the Community Room of the Will County Health Department Main Office at 501 Ella Ave. in Joliet. This group is a place to join other parents in a welcoming space to share stories\, receive guidance and find community. The group is led by an international board certified lactation consultant (IBCLC). The support group is open to all members of the Will County Community. Group members do not have to be participants in any Will County Health Department program to attend. RSVP’s for the support group would be appreciated. For any additional questions or to RSVP\, please call 779-375-5448.
URL:https://willcountyhealth.org/event/milk-circle-breastfeeding-support-group-april-21/
LOCATION:Will County Health Department\, 501 Ella Ave.\, Joliet\, IL\, 60433\, United States
CATEGORIES:Breastfeeding
ATTACH;FMTTYPE=image/png:https://willcountyhealth.org/wp-content/uploads/2025/10/Breastfeeding-Support-Group-Flyer-950-x-630-px.png
END:VEVENT
BEGIN:VEVENT
DTSTART;TZID=America/Chicago:20260421T170000
DTEND;TZID=America/Chicago:20260421T190000
DTSTAMP:20260421T015317
CREATED:20260331T203909Z
LAST-MODIFIED:20260331T203909Z
UID:10001249-1776790800-1776798000@willcountyhealth.org
SUMMARY:Naloxone (Narcan) Rapid Response – April 21
DESCRIPTION:The Naloxone Rapid Response Team will have a pop-up table distributing Naloxone (Narcan)\, a medication to rapidly reverse an opioid overdose. The team will also distribute materials identifying locations for treatment\, peer support and other available resources.
URL:https://willcountyhealth.org/event/naloxone-narcan-rapid-response-april-21-3/
LOCATION:New Lenox Commons\, 145-199 Veterans Pkwy.\, New Lenox\, Il
CATEGORIES:Naloxone (Narcan) Rapid Response Event
ATTACH;FMTTYPE=image/png:https://willcountyhealth.org/wp-content/uploads/2025/04/New-Naloxone-event.png
END:VEVENT
END:VCALENDAR