BEGIN:VCALENDAR
VERSION:2.0
PRODID:-//Will County Health Department - ECPv6.15.20//NONSGML v1.0//EN
CALSCALE:GREGORIAN
METHOD:PUBLISH
X-ORIGINAL-URL:https://willcountyhealth.org
X-WR-CALDESC:Events for Will County Health Department
REFRESH-INTERVAL;VALUE=DURATION:PT1H
X-Robots-Tag:noindex
X-PUBLISHED-TTL:PT1H
BEGIN:VTIMEZONE
TZID:America/Chicago
BEGIN:DAYLIGHT
TZOFFSETFROM:-0600
TZOFFSETTO:-0500
TZNAME:CDT
DTSTART:20250309T080000
END:DAYLIGHT
BEGIN:STANDARD
TZOFFSETFROM:-0500
TZOFFSETTO:-0600
TZNAME:CST
DTSTART:20251102T070000
END:STANDARD
BEGIN:DAYLIGHT
TZOFFSETFROM:-0600
TZOFFSETTO:-0500
TZNAME:CDT
DTSTART:20260308T080000
END:DAYLIGHT
BEGIN:STANDARD
TZOFFSETFROM:-0500
TZOFFSETTO:-0600
TZNAME:CST
DTSTART:20261101T070000
END:STANDARD
BEGIN:DAYLIGHT
TZOFFSETFROM:-0600
TZOFFSETTO:-0500
TZNAME:CDT
DTSTART:20270314T080000
END:DAYLIGHT
BEGIN:STANDARD
TZOFFSETFROM:-0500
TZOFFSETTO:-0600
TZNAME:CST
DTSTART:20271107T070000
END:STANDARD
END:VTIMEZONE
BEGIN:VEVENT
DTSTART;TZID=America/Chicago:20260331T080000
DTEND;TZID=America/Chicago:20260331T170000
DTSTAMP:20260421T031022
CREATED:20260331T214430Z
LAST-MODIFIED:20260331T214436Z
UID:10001262-1774944000-1774976400@willcountyhealth.org
SUMMARY:WCHD Closed on April 3
DESCRIPTION:WCHD Closed on April 3\n						\n						\n						\n					\n				\n					\n					\n					\n					\n				\n				\n				\n				\n			\n				\n				\n			\n				\n				\n				\n				\n				\n				\n				\n				\n				\n				\n				\n				\n				\n				\n				\n				\n				\n				The Will County Health Department and Community Health Center will be closed at all locations on Friday\, April 3\, in observance of Good Friday. Regular business hours will resume on Saturday\, April 4.
URL:https://willcountyhealth.org/event/wchd-closed-on-april-3/
CATEGORIES:Will County Health Department
END:VEVENT
BEGIN:VEVENT
DTSTART;TZID=America/Chicago:20260331T090000
DTEND;TZID=America/Chicago:20260331T140000
DTSTAMP:20260421T031022
CREATED:20260228T154833Z
LAST-MODIFIED:20260228T154833Z
UID:10001222-1774947600-1774965600@willcountyhealth.org
SUMMARY:Naloxone (Narcan) Rapid Response – March 31
DESCRIPTION:The Naloxone Rapid Response Team will have a pop-up table distributing Naloxone (Narcan)\, a medication to rapidly reverse an opioid overdose. The team will also distribute materials identifying locations for treatment\, peer support and other available resources.
URL:https://willcountyhealth.org/event/naloxone-narcan-rapid-response-march-31-2/
LOCATION:University Park Resource Fair\, 90 Town Center Dr.\, University Park\, IL
CATEGORIES:Naloxone (Narcan) Rapid Response Event
ATTACH;FMTTYPE=image/png:https://willcountyhealth.org/wp-content/uploads/2025/04/New-Naloxone-event.png
END:VEVENT
BEGIN:VEVENT
DTSTART;TZID=America/Chicago:20260331T100000
DTEND;TZID=America/Chicago:20260331T120000
DTSTAMP:20260421T031022
CREATED:20260228T154638Z
LAST-MODIFIED:20260228T154638Z
UID:10001221-1774951200-1774958400@willcountyhealth.org
SUMMARY:Naloxone (Narcan) Rapid Response – March 31
DESCRIPTION:The Naloxone Rapid Response Team will have a pop-up table distributing Naloxone (Narcan)\, a medication to rapidly reverse an opioid overdose. The team will also distribute materials identifying locations for treatment\, peer support and other available resources.
URL:https://willcountyhealth.org/event/naloxone-narcan-rapid-response-march-31/
LOCATION:River Walk Homes Food Pantry\, 350 N. Broadway St.\, Joliet\, Illinois\, 60435
CATEGORIES:Naloxone (Narcan) Rapid Response Event
ATTACH;FMTTYPE=image/png:https://willcountyhealth.org/wp-content/uploads/2025/04/New-Naloxone-event.png
END:VEVENT
END:VCALENDAR